BEGIN:VCALENDAR
VERSION:2.0
PRODID:-//Ivritane - ECPv5.9.1//NONSGML v1.0//EN
CALSCALE:GREGORIAN
METHOD:PUBLISH
X-WR-CALNAME:Ivritane
X-ORIGINAL-URL:https://ivritane.com
X-WR-CALDESC:Events for Ivritane
BEGIN:VTIMEZONE
TZID:Europe/Paris
BEGIN:DAYLIGHT
TZOFFSETFROM:+0100
TZOFFSETTO:+0200
TZNAME:CEST
DTSTART:20210328T010000
END:DAYLIGHT
BEGIN:STANDARD
TZOFFSETFROM:+0200
TZOFFSETTO:+0100
TZNAME:CET
DTSTART:20211031T010000
END:STANDARD
END:VTIMEZONE
BEGIN:VEVENT
DTSTART;TZID=Europe/Paris:20210919T190000
DTEND;TZID=Europe/Paris:20210919T200000
DTSTAMP:20260425T172318
CREATED:20210826T180009Z
LAST-MODIFIED:20210923T165639Z
UID:836-1632078000-1632081600@ivritane.com
SUMMARY:Regarder la conférence en ligne : Dramaturgies juives dans un contexte contemporain - Alexandru Bumbas
DESCRIPTION:Alexandru Bumbas propose une conférence inédite autour des dramaturgies juives dans un contexte contemporain. En dehors d’une approche chronologique et de la présentation du statut de ces dramaturgies au sein de la culture juive et universelle\, le conférencier proposera des mise-en-voix des fragments tirés des textes anciens (Ézéchiel le Tragique) et contemporains (Charlotte Delbo). Il s’agira d’avoir un bref aperçu des liens entre le théâtre\, l’Ancien Testament et l’histoire millénaire du peuple juif\, ainsi que la dimension mémorielle de la dramaturgie du témoignage.\n\nCe type de lecture-découverte se trouve au sein de la pédagogie qu’Alexandru Bumbas entend développer dans le cadre d’Ivritane.\n\nRegardez la conférence en cliquant sur le lien suivant :\n\nhttps://zoom.us/rec/share/hJ4IK1G2zcpNHgJ9W1KdR2vA9Uofjs3ZK-IC7gWNhPbL8KF0FKxo0UxuOjRYMa9_.GJ4qSVE_0XXCpU-F \n(Code secret: d=Ru9?VK)
URL:https://ivritane.com/event/conference-dramaturgies-juives-dans-un-contexte-contemporain/
CATEGORIES:Conférences et stages
ATTACH;FMTTYPE=image/jpeg:https://ivritane.com/wp-content/uploads/2021/08/alexandru-e1630001138893.jpg
END:VEVENT
END:VCALENDAR