BEGIN:VCALENDAR
VERSION:2.0
PRODID:-//Ivritane - ECPv5.9.1//NONSGML v1.0//EN
CALSCALE:GREGORIAN
METHOD:PUBLISH
X-WR-CALNAME:Ivritane
X-ORIGINAL-URL:https://ivritane.com
X-WR-CALDESC:Events for Ivritane
BEGIN:VTIMEZONE
TZID:Europe/Paris
BEGIN:DAYLIGHT
TZOFFSETFROM:+0100
TZOFFSETTO:+0200
TZNAME:CEST
DTSTART:20210328T010000
END:DAYLIGHT
BEGIN:STANDARD
TZOFFSETFROM:+0200
TZOFFSETTO:+0100
TZNAME:CET
DTSTART:20211031T010000
END:STANDARD
END:VTIMEZONE
BEGIN:VEVENT
DTSTART;VALUE=DATE:20211016
DTEND;VALUE=DATE:20211018
DTSTAMP:20260425T154835
CREATED:20210910T121622Z
LAST-MODIFIED:20210910T122812Z
UID:852-1634342400-1634515199@ivritane.com
SUMMARY:Stage pour les couples : "Reconnexion à l’autre”
DESCRIPTION:Weekend du 16 et 17 octobre dans un cadre magnifique en pleine forêt de Fontainebleau. \nLe stage sera animé par Isabelle Barkats thérapeute de couple IMAGO \nhttps://www.isabellebarkats.com/ \nPlaces limitées \nDéjeuners inclus.  \nTarif : 300€ / couple \nPour plus d’information et inscriptions : contact@ivritane.com  \nLA MÉTHODE IMAGO\, QU’EST-CE QUE C’EST ? \nLa thérapie relationnelle IMAGO est une approche visant à permettre aux couples de développer une meilleure entente basée sur l’écoute\nmutuelle\, l’empathie\, l’accueil inconditionnel\, la valorisation. Elle fonde son approche sur le principe que nous choisissons (inconsciemment) notre partenaire pour nous permettre de grandir et de réparer les blessures\, parfois intenses\, dont nous avons souffert dans notre enfance : peur d’être abandonné\, peur d’être envahi\, peur de mourir\, peur de décevoir\, peur de ne plus être aimé… \nSi la première phase du couple est une période romantique\, merveilleuse\, magique\, passionnelle\, la seconde phase (en général de 6 mois à 3 ans plus tard) voit arriver une véritable lutte de pouvoir. \nNous découvrons l’autre tel qu’il est vraiment. \nOn s’aperçoit qu’il/elle ressemble à nos parents et nous revivons nos souffrances d’enfant. On a envie de fuir… c’est le choc. \nLa thérapie Imago va permettre de comprendre comment ces blessures passées influent sur votre relation actuelle\, de les dépasser\, de les transformer progressivement en opportunités pour le couple et de vivre la relation de manière consciente et partagée. Dès lors\, il sera possible de guérir de ses propres souffrances et de permettre au couple de grandir et de s’épanouir.
URL:https://ivritane.com/event/stage-pour-les-couples-reconnexion-a-lautre/
CATEGORIES:Conférences et stages
ATTACH;FMTTYPE=image/jpeg:https://ivritane.com/wp-content/uploads/2021/09/isa-e1631276887573.jpeg
END:VEVENT
END:VCALENDAR