BEGIN:VCALENDAR
VERSION:2.0
PRODID:-//Ivritane - ECPv5.9.1//NONSGML v1.0//EN
CALSCALE:GREGORIAN
METHOD:PUBLISH
X-WR-CALNAME:Ivritane
X-ORIGINAL-URL:https://ivritane.com
X-WR-CALDESC:Events for Ivritane
BEGIN:VTIMEZONE
TZID:Europe/Paris
BEGIN:DAYLIGHT
TZOFFSETFROM:+0100
TZOFFSETTO:+0200
TZNAME:CEST
DTSTART:20220327T010000
END:DAYLIGHT
BEGIN:STANDARD
TZOFFSETFROM:+0200
TZOFFSETTO:+0100
TZNAME:CET
DTSTART:20221030T010000
END:STANDARD
END:VTIMEZONE
BEGIN:VEVENT
DTSTART;TZID=Europe/Paris:20220425T080000
DTEND;TZID=Europe/Paris:20220428T170000
DTSTAMP:20260425T060451
CREATED:20220111T111332Z
LAST-MODIFIED:20220111T111332Z
UID:879-1650873600-1651165200@ivritane.com
SUMMARY:Stage d'hébreu à l'Atelier des Sources
DESCRIPTION:Stage d’hébreu ce printemps ! \nDu 25 au 28 avril 2022 \nVenez combiner l’étude de l’hébreu et balades nature \ndans un lieu magique ! \n\nEnseignants israéliens\nPlusieurs niveaux\nLogement et nourriture inclus\n5 heures de cours par jour\nBalades et activités supplémentaires\n\nProgramme : \nArrivée – dimanche 24 avril au soir \nDu lundi 25 au jeudi 28 étude de la langue (5 heures par jour).  \nBalades\, activités supplémentaires ou temps libre\, selon le jour. \nDépart : jeudi 28 au soir ou bien vendredi 29 après le petit déjeuner. \nTarif : 700€ tout inclus (enseignements\, repas et logement) pour les réservations avant le 24/2. A partir du 24/2 – 780€.  \nLe tarif n’inclut pas les transports ou tout autre frais.  \n 
URL:https://ivritane.com/event/stage-dhebreu-a-latelier-des-sources/
LOCATION:L’Atelier des Sources\, Angles sur l'Anglin\, France
CATEGORIES:Conférences et stages
ATTACH;FMTTYPE=image/jpeg:https://ivritane.com/wp-content/uploads/2022/01/3.jpg
END:VEVENT
END:VCALENDAR