BEGIN:VCALENDAR
VERSION:2.0
PRODID:-//Ivritane - ECPv5.9.1//NONSGML v1.0//EN
CALSCALE:GREGORIAN
METHOD:PUBLISH
X-WR-CALNAME:Ivritane
X-ORIGINAL-URL:https://ivritane.com
X-WR-CALDESC:Events for Ivritane
BEGIN:VTIMEZONE
TZID:Europe/Paris
BEGIN:DAYLIGHT
TZOFFSETFROM:+0100
TZOFFSETTO:+0200
TZNAME:CEST
DTSTART:20230326T010000
END:DAYLIGHT
BEGIN:STANDARD
TZOFFSETFROM:+0200
TZOFFSETTO:+0100
TZNAME:CET
DTSTART:20231029T010000
END:STANDARD
BEGIN:DAYLIGHT
TZOFFSETFROM:+0100
TZOFFSETTO:+0200
TZNAME:CEST
DTSTART:20240331T010000
END:DAYLIGHT
BEGIN:STANDARD
TZOFFSETFROM:+0200
TZOFFSETTO:+0100
TZNAME:CET
DTSTART:20241027T010000
END:STANDARD
BEGIN:DAYLIGHT
TZOFFSETFROM:+0100
TZOFFSETTO:+0200
TZNAME:CEST
DTSTART:20250330T010000
END:DAYLIGHT
BEGIN:STANDARD
TZOFFSETFROM:+0200
TZOFFSETTO:+0100
TZNAME:CET
DTSTART:20251026T010000
END:STANDARD
END:VTIMEZONE
BEGIN:VEVENT
DTSTART;TZID=Europe/Paris:20230121T190000
DTEND;TZID=Europe/Paris:20230121T203000
DTSTAMP:20260425T173641
CREATED:20230105T111841Z
LAST-MODIFIED:20230105T111841Z
UID:918-1674327600-1674333000@ivritane.com
SUMMARY:Pan demonio / pan de moño - spectacle de littérature\, musique et danse
DESCRIPTION:On dit que le temps s’accélère. Nous vivons de plus en plus rapidement\, connectés\, virtuellement. Dans un monde comme celui-là\, s’assoir\, écouter un texte lu dans un livre plutôt qu’un écran\, accompagné de musique et de danse est presque un acte politique ou subversif. \n\n\n\n\n“Pan demonio / pan de moño” est tout d’abord un recueil de nouvelles écrites par l’écrivain argentin\, Javier Leibiusky\, résidant à Paris. Il s’agit de nouvelles oniriques\, surréalistes parfois\, pleines d’humour et avec un profond regard critique sur le monde actuel. \n\nLa lecture est accompagnée de musique et\, dans certaines présentations\, de danse. \n\n\nIl s’agit d’un spectacle qui invite à plonger dans l’univers mystérieux mais aussi léger\, des nouvelles\, à se laisser porter par la musicalité\, à établir un lien sincère et humain avec les artistes\, à prendre une pause et donner la place au rêve. \n\n\n\n\nLes artistes : \nJavier Leibiusky – lecture\, chant\, guitare\, didjeridoo \nJavier Hermosin – percussions\, guitare\, flûte \nJavier Pizarro – guitare et guitare basse \nBenjamin de Roubaix – synthétiseur\, piano\, flûtes \nJavier Juarez – danse\, flûte
URL:https://ivritane.com/event/pan-demonio-pan-de-mono-spectacle-de-litterature-musique-et-danse/
LOCATION:Maison du Portugal\, 7P Bd Jourdan\, Paris\, 75014\, France
ATTACH;FMTTYPE=image/png:https://ivritane.com/wp-content/uploads/2023/01/7.png
END:VEVENT
BEGIN:VEVENT
DTSTART;TZID=Europe/Paris:20230205T190000
DTEND;TZID=Europe/Paris:20230205T200000
DTSTAMP:20260425T173641
CREATED:20230105T113612Z
LAST-MODIFIED:20230123T095148Z
UID:922-1675623600-1675627200@ivritane.com
SUMMARY:Conférence en ligne - Valeria Martinez Vazquez
DESCRIPTION:Conférence en ligne avec la chamane argentine Valeria Martinez Vazquez. \nValeria parlera de son parcours\, sa méthode et donnera quelques conseils utiles à appliquer dans notre quotidien. \nLa conférence sera en espagnol\, la traduction en français sera assurée. \nLa conférence est gratuite. \nInscription par retour de mail à contact@ivritane.com
URL:https://ivritane.com/event/conference-en-ligne-valeria-martinez-vazquez/
ATTACH;FMTTYPE=image/jpeg:https://ivritane.com/wp-content/uploads/2023/01/FB_IMG_1671645560319.jpg
END:VEVENT
BEGIN:VEVENT
DTSTART;TZID=Europe/Paris:20250915T080000
DTEND;TZID=Europe/Paris:20250915T170000
DTSTAMP:20260425T173641
CREATED:20250827T135903Z
LAST-MODIFIED:20250827T135903Z
UID:1206-1757923200-1757955600@ivritane.com
SUMMARY:Test Cours
DESCRIPTION:cours hébreu
URL:https://ivritane.com/event/test-cours/
END:VEVENT
END:VCALENDAR